{"text_format":"3","workbook":"xlsx","n_sheets":2,"sheets":["学硕","专硕 "],"not_rendered":{"external_links":1,"defined_names":3},"read":"whole","date_system":"1900"}

{"sheet":"学硕","index":0,"n_rows":12,"n_cols":15,"rows_kept":12,"merged":[[0,0,0,14],[1,0,1,14]]}
["江苏科技大学 材料科学与工程 学院 2025年硕士研究生复试排序表"]
["学院（章）：                                 专业代码及专业名称：                      "]
["生源类别（一志愿或调剂）","复试专业         代码","复试专业         名称","复试研究方向代码\n（仅按研究方向招生的专业需填写）","姓名","考生编号","A\n初试总成绩（含加分）","B\n专业课考试（考核）成绩","C\n口语听力总成绩","D\n专业知识面试成绩","E\n政治（MBA/MPA、MPAcc）","（B+C+D+E)\n复试总成绩\n（保留至小数点后1位）","综合成绩\n（保留至小数点后2位小数）\n综合成绩=初试成绩*70%+复试总成绩*30%","综合成绩排名","备注"]
["一志愿","080500","材料科学与工程",null,"蒋凯","102895210700528","318",{"$f":"VLOOKUP(E4,[1]sheet1!$C$4:$L$9,10,FALSE)","v":112},{"v":37.5,"d":"38"},90,null,{"$f":"H4+I4+J4","v":{"v":239.5,"d":"240"}},{"$f":"G4*0.7+L4*0.3","v":294.45},"1"]
["一志愿","080500","材料科学与工程",null,"崔中原","102895210703138","293",{"$f":"VLOOKUP(E5,[1]sheet1!$C$4:$L$9,10,FALSE)","v":128},{"v":38.75,"d":"39"},{"v":85.5,"d":"86"},null,{"$f":"H5+I5+J5","v":{"v":252.25,"d":"252"}},{"$f":"G5*0.7+L5*0.3","v":{"v":280.775,"d":"280.78"}},"2"]
["一志愿","080500","材料科学与工程",null,"刘泽民","102895210700536","298",{"$f":"VLOOKUP(E6,[1]sheet1!$C$4:$L$9,10,FALSE)","v":104},{"v":43.75,"d":"44"},82,null,{"$f":"H6+I6+J6","v":{"v":229.75,"d":"230"}},{"$f":"G6*0.7+L6*0.3","v":{"v":277.525,"d":"277.53"}},"3"]
["一志愿","080500","材料科学与工程",null,"秦敬冉","102895210704405","287",{"$f":"VLOOKUP(E7,[1]sheet1!$C$4:$L$9,10,FALSE)","v":105},{"v":46.75,"d":"47"},{"v":88.5,"d":"89"},null,{"v":240.25,"d":"240"},{"v":272.975,"d":"272.98"},"4"]
["一志愿","080500","材料科学与工程",null,"刘德权","102895210700534","281",{"$f":"VLOOKUP(E8,[1]sheet1!$C$4:$L$9,10,FALSE)","v":103},{"v":43.25,"d":"43"},84,null,{"v":230.25,"d":"230"},{"v":265.775,"d":"265.78"},"5"]
["一志愿","080500","材料科学与工程",null,"唐康杰","102895210700542","270",{"$f":"VLOOKUP(E9,[1]sheet1!$C$4:$L$9,10,FALSE)","v":117},{"v":42.75,"d":"43"},{"v":88.3333333333333,"d":"88"},null,{"v":248.083333333333,"d":"248"},{"v":263.425,"d":"263.43"},"6"]
[]
[]
[{"$nulls":12},"2025-03-28"]

{"sheet":"专硕 ","index":1,"n_rows":77,"n_cols":15,"rows_kept":77,"merged":[[0,0,0,14],[1,0,1,14]]}
["江苏科技大学  材料科学与工程  学院 2025年硕士研究生复试排序表"]
["学院（章）：                                 专业代码及专业名称：材料与化工                      "]
["生源类别（一志愿或调剂）","复试专业         代码","复试专业         名称","复试研究方向代码\n（仅按研究方向招生的专业需填写）","姓名","考生编号","A\n初试总成绩（含加分）","B\n专业课考试（考核）成绩","C\n口语听力总成绩","D\n专业知识面试成绩","E\n政治（MBA/MPA、MPAcc）","（B+C+D+E)\n复试总成绩\n（保留至小数点后1位）","综合成绩\n（保留至小数点后2位小数）\n综合成绩=初试成绩*70%+复试总成绩*30%","综合成绩排名","备注"]
["一志愿","085600","材料与化工",null,"李光耀","102895210703141","351",{"$f":"VLOOKUP(E4,[1]sheet1!$C$10:$L$81,10,FALSE)","v":123},45,90,null,{"$f":"H4+I4+J4","v":258},{"$f":"G4*0.7+L4*0.3","v":{"v":323.1,"d":"323.10"}},"1"]
["一志愿","085600","材料与化工",null,"倪泽远","102895210701969","345",{"$f":"VLOOKUP(E5,[1]sheet1!$C$10:$L$81,10,FALSE)","v":117},48,82,null,247,{"v":315.6,"d":"315.60"},"2"]
["一志愿","085600","材料与化工",null,"唐轶群","102895210701975","346",{"$f":"VLOOKUP(E6,[1]sheet1!$C$10:$L$81,10,FALSE)","v":110},35,89,null,234,{"v":312.4,"d":"312.40"},"3"]
["一志愿","085600","材料与化工",null,"丛培澍","102895210700556","344",{"$f":"VLOOKUP(E7,[1]sheet1!$C$10:$L$81,10,FALSE)","v":98},45,86,null,229,{"v":309.5,"d":"309.50"},"4"]
["一志愿","085600","材料与化工",null,"夏星翼","102895210703728","328",{"$f":"VLOOKUP(E8,[1]sheet1!$C$10:$L$81,10,FALSE)","v":132},40,90,null,262,{"v":308.2,"d":"308.20"},"5"]
["一志愿","085600","材料与化工",null,"王卓","102895210704710","329",{"$f":"VLOOKUP(E9,[1]sheet1!$C$10:$L$81,10,FALSE)","v":119},45,93,null,257,{"v":307.4,"d":"307.40"},"6"]
["一志愿","085600","材料与化工",null,"朱纪伟","102895210704380","331",{"$f":"VLOOKUP(E10,[1]sheet1!$C$10:$L$81,10,FALSE)","v":126},35,80,null,241,{"v":304,"d":"304.00"},"7"]
["一志愿","085600","材料与化工",null,"黄功磊","102895210705108","328",{"$f":"VLOOKUP(E11,[1]sheet1!$C$10:$L$81,10,FALSE)","v":112},40,95,null,247,{"v":303.7,"d":"303.70"},"8"]
["一志愿","085600","材料与化工",null,"彭淇","102895210700582","339",{"$f":"VLOOKUP(E12,[1]sheet1!$C$10:$L$81,10,FALSE)","v":91},45,85,null,221,{"v":303.6,"d":"303.60"},"9"]
["一志愿","085600","材料与化工",null,"翟志恒","102895210702242","326",{"$f":"VLOOKUP(E13,[1]sheet1!$C$10:$L$81,10,FALSE)","v":105},45,96,null,246,{"v":302,"d":"302.00"},"10"]
["一志愿","085600","材料与化工",null,"刘皓然","102895210700570","336",{"$f":"VLOOKUP(E14,[1]sheet1!$C$10:$L$81,10,FALSE)","v":91},42,85,null,218,{"v":300.6,"d":"300.60"},"11"]
["一志愿","085600","材料与化工",null,"李凌宇","102895210700567","328",{"$f":"VLOOKUP(E15,[1]sheet1!$C$10:$L$81,10,FALSE)","v":105},41,88,null,234,{"v":299.8,"d":"299.80"},"12"]
["一志愿","085600","材料与化工",null,"艾昕","102895210701477","317",{"$f":"VLOOKUP(E16,[1]sheet1!$C$10:$L$81,10,FALSE)","v":121},40,90,null,251,{"v":297.2,"d":"297.20"},"13"]
["一志愿","085600","材料与化工",null,"缪延骏"," 102895210700581",326,{"$f":"VLOOKUP(E17,[1]sheet1!$C$10:$L$81,10,FALSE)","v":91},40,80,null,211,{"v":291.5,"d":"291.50"},"14"]
["一志愿","085600","材料与化工",null,"郑艺琳","102895210703677","306",{"$f":"VLOOKUP(E18,[1]sheet1!$C$10:$L$81,10,FALSE)","v":128},44,83,null,255,{"v":290.7,"d":"290.70"},"15"]
["一志愿","085600","材料与化工",null,"王宇杰","102895210701980","319",{"$f":"VLOOKUP(E19,[1]sheet1!$C$10:$L$81,10,FALSE)","v":99},{"v":41.25,"d":"41"},{"v":79.6666666666667,"d":"80"},null,{"v":219.916666666667,"d":"220"},{"v":289.275,"d":"289.28"},"16"]
["一志愿","085600","材料与化工",null,"田家嵘","102895210702879","317",{"$f":"VLOOKUP(E20,[1]sheet1!$C$10:$L$81,10,FALSE)","v":114},40,70,null,224,{"v":289.1,"d":"289.10"},"17"]
["一志愿","085600","材料与化工",null,"张宇","102895210701484","323",{"$f":"VLOOKUP(E21,[1]sheet1!$C$10:$L$81,10,FALSE)","v":98},42,69,null,209,{"v":288.8,"d":"288.80"},"18"]
["一志愿","085600","材料与化工",null,"侯彤彤","102895210703139","316",{"$f":"VLOOKUP(E22,[1]sheet1!$C$10:$L$81,10,FALSE)","v":93},45,85,null,223,{"v":288.1,"d":"288.10"},"19"]
["一志愿","085600","材料与化工",null,"庄嘉怡","102895210701995","309",{"$f":"VLOOKUP(E23,[1]sheet1!$C$10:$L$81,10,FALSE)","v":119},35,84,null,238,{"v":287.7,"d":"287.70"},"20"]
["一志愿","085600","材料与化工",null,"唐宇轩","102895210700588","320",{"$f":"VLOOKUP(E24,[1]sheet1!$C$10:$L$81,10,FALSE)","v":94},40,78,null,212,{"v":287.6,"d":"287.60"},"21"]
["一志愿","085600","材料与化工",null,"张建飞","102895210701483","319",{"$f":"VLOOKUP(E25,[1]sheet1!$C$10:$L$81,10,FALSE)","v":102},36,73,null,211,{"v":286.6,"d":"286.60"},"22"]
["一志愿","085600","材料与化工",null,"周承军","102895210701993","314",{"$f":"VLOOKUP(E26,[1]sheet1!$C$10:$L$81,10,FALSE)","v":116},36,70,null,222,{"v":286.4,"d":"286.40"},"23"]
["一志愿","085600","材料与化工",null,"孟心悦"," 102895210700579",312,{"$f":"VLOOKUP(E27,[1]sheet1!$C$10:$L$81,10,FALSE)","v":91},45,90,null,226,{"v":286.2,"d":"286.20"},"24"]
["一志愿","085600","材料与化工",null,"刘明涛","102895210701965","307",{"$f":"VLOOKUP(E28,[1]sheet1!$C$10:$L$81,10,FALSE)","v":90},46,98,null,234,{"v":285.1,"d":"285.10"},"25"]
["一志愿","085600","材料与化工",null,"丁铆虔","102895210701958","308",{"$f":"VLOOKUP(E29,[1]sheet1!$C$10:$L$81,10,FALSE)","v":102},40,83,null,225,{"v":283.1,"d":"283.10"},"26"]
["一志愿","085600","材料与化工",null,"高嘉欣","102895210700883","304",{"$f":"VLOOKUP(E30,[1]sheet1!$C$10:$L$81,10,FALSE)","v":99},43,88,null,230,{"v":281.8,"d":"281.80"},"27"]
["一志愿","085600","材料与化工",null,"林明富","102895210705124","305",{"$f":"VLOOKUP(E31,[1]sheet1!$C$10:$L$81,10,FALSE)","v":108},38,80,null,226,{"v":281.3,"d":"281.30"},"28"]
["一志愿","085600","材料与化工",null,"汪传佳","102895210700592","306",{"$f":"VLOOKUP(E32,[1]sheet1!$C$10:$L$81,10,FALSE)","v":91},43,89,null,223,{"v":281.1,"d":"281.10"},"29"]
["一志愿","085600","材料与化工",null,"蒋向阳","102895210703140","297",{"$f":"VLOOKUP(E33,[1]sheet1!$C$10:$L$81,10,FALSE)","v":112},35,92,null,239,{"v":279.6,"d":"279.60"},"30"]
["一志愿","085600","材料与化工",null,"庄杨洋","102895210702597","309",{"$f":"VLOOKUP(E34,[1]sheet1!$C$10:$L$81,10,FALSE)","v":97},38,74,null,209,{"v":279,"d":"279.00"},"31"]
["一志愿","085600","材料与化工",null,"陈昊阳","102895210701955","295",{"$f":"VLOOKUP(E35,[1]sheet1!$C$10:$L$81,10,FALSE)","v":115},45,80,null,240,{"v":278.5,"d":"278.50"},"32"]
["一志愿","085600","材料与化工",null,"代子鑫"," 102895210703812",292,{"$f":"VLOOKUP(E36,[1]sheet1!$C$10:$L$81,10,FALSE)","v":124},38,85,null,{"$f":"H36+I36+J36","v":247},{"$f":"G36*0.7+L36*0.3","v":{"v":278.5,"d":"278.50"}},"33"]
["一志愿","085600","材料与化工",null,"吴子文","102895210701981","303",{"$f":"VLOOKUP(E37,[1]sheet1!$C$10:$L$81,10,FALSE)","v":90},46,{"v":83.8333333333333,"d":"84"},null,{"v":219.833333333333,"d":"220"},278.05,"34"]
["一志愿","085600","材料与化工",null,"高增超","102895210700561","290",{"$f":"VLOOKUP(E38,[1]sheet1!$C$10:$L$81,10,FALSE)","v":118},40,88,null,246,{"v":276.8,"d":"276.80"},"35"]
["一志愿","085600","材料与化工",null,"张天顺","102895210701990","293",{"$f":"VLOOKUP(E39,[1]sheet1!$C$10:$L$81,10,FALSE)","v":109},42,86,null,237,{"v":276.2,"d":"276.20"},"36"]
["一志愿","085600","材料与化工",null,"翟嘉锐","102895210701989","294",{"$f":"VLOOKUP(E40,[1]sheet1!$C$10:$L$81,10,FALSE)","v":107},39,88,null,234,{"v":276,"d":"276.00"},"37"]
["一志愿","085600","材料与化工",null,"王鑫晶","102895210704350","288",{"$f":"VLOOKUP(E41,[1]sheet1!$C$10:$L$81,10,FALSE)","v":126},41,76,null,243,{"v":274.5,"d":"274.50"},"38"]
["一志愿","085600","材料与化工",null,"王洋","102895210701979","288",{"$f":"VLOOKUP(E42,[1]sheet1!$C$10:$L$81,10,FALSE)","v":117},{"v":40.25,"d":"40"},85,null,{"v":242.25,"d":"242"},{"v":274.275,"d":"274.28"},"39"]
["一志愿","085600","材料与化工",null,"严楷","102895210701986","285",{"$f":"VLOOKUP(E43,[1]sheet1!$C$10:$L$81,10,FALSE)","v":115},40,85,null,240,{"v":271.5,"d":"271.50"},"40"]
["一志愿","085600","材料与化工",null,"毛陆鑫","102895210700576","291",{"$f":"VLOOKUP(E44,[1]sheet1!$C$10:$L$81,10,FALSE)","v":99},40,84,null,223,{"v":270.6,"d":"270.60"},"41"]
["一志愿","085600","材料与化工",null,"李扣华","102895210700566","285",{"$f":"VLOOKUP(E45,[1]sheet1!$C$10:$L$81,10,FALSE)","v":115},42,79,null,236,{"v":270.3,"d":"270.30"},"42"]
["一志愿","085600","材料与化工",null,"颜明旭","102895210702392","292",{"$f":"VLOOKUP(E46,[1]sheet1!$C$10:$L$81,10,FALSE)","v":114},35,70,null,219,{"v":270.1,"d":"270.10"},"43"]
["一志愿","085600","材料与化工",null,"宋飞","102895210700587","283",{"$f":"VLOOKUP(E47,[1]sheet1!$C$10:$L$81,10,FALSE)","v":104},{"v":40.75,"d":"41"},88,null,{"v":232.75,"d":"233"},{"v":267.925,"d":"267.93"},"44"]
["一志愿","085600","材料与化工",null,"马俊杰","102895210700575","282",{"$f":"VLOOKUP(E48,[1]sheet1!$C$10:$L$81,10,FALSE)","v":111},41,80,null,232,{"v":267,"d":"267.00"},"45"]
["一志愿","085600","材料与化工",null,"张士涛","102895210700605","274",{"$f":"VLOOKUP(E49,[1]sheet1!$C$10:$L$81,10,FALSE)","v":124},38,85,null,247,{"v":265.9,"d":"265.90"},"46"]
["一志愿","085600","材料与化工",null,"石玉婷","102895210704087","276",{"$f":"VLOOKUP(E50,[1]sheet1!$C$10:$L$81,10,FALSE)","v":102},44,95,null,241,{"v":265.5,"d":"265.50"},"47"]
["一志愿","085600","材料与化工",null,"石志康","102895210701973","283",{"$f":"VLOOKUP(E51,[1]sheet1!$C$10:$L$81,10,FALSE)","v":115},35,70,null,220,{"v":264.1,"d":"264.10"},"48"]
["一志愿","085600","材料与化工",null,"徐国庆","102895210703434","281",{"$f":"VLOOKUP(E52,[1]sheet1!$C$10:$L$81,10,FALSE)","v":94},40,85,null,219,{"v":262.4,"d":"262.40"},"49"]
["一志愿","085600","材料与化工",null,"黄洋"," 102895210700564",272,{"$f":"VLOOKUP(E53,[1]sheet1!$C$10:$L$81,10,FALSE)","v":99},45,95,null,239,{"v":262.1,"d":"262.10"},"50"]
["一志愿","085600","材料与化工",null,"赵晓晨","102895210702124","278",{"$f":"VLOOKUP(E54,[1]sheet1!$C$10:$L$81,10,FALSE)","v":101},45,76,null,222,{"v":261.2,"d":"261.20"},"51"]
["一志愿","085600","材料与化工",null,"沈思达","102895210700586","264",{"$f":"VLOOKUP(E55,[1]sheet1!$C$10:$L$81,10,FALSE)","v":134},43,77,null,254,{"v":261,"d":"261.00"},"52"]
["一志愿","085600","材料与化工",null,"陈杰","102895210705143","271",{"$f":"VLOOKUP(E56,[1]sheet1!$C$10:$L$81,10,FALSE)","v":110},40,82,null,232,{"v":259.3,"d":"259.30"},"53"]
["一志愿","085600","材料与化工",null,"任洺雨","102895210700945","278",{"$f":"VLOOKUP(E57,[1]sheet1!$C$10:$L$81,10,FALSE)","v":100},37,78,null,215,{"v":259.1,"d":"259.10"},"54"]
["一志愿","085600","材料与化工",null,"赵李岭"," 102895210700606",261,{"$f":"VLOOKUP(E58,[1]sheet1!$C$10:$L$81,10,FALSE)","v":119},40,90,null,249,{"v":257.4,"d":"257.40"},"55"]
["一志愿","085600","材料与化工",null,"杜旭阳","102895210705199","283",{"$f":"VLOOKUP(E59,[1]sheet1!$C$10:$L$81,10,FALSE)","v":91},30,75,null,196,{"v":256.9,"d":"256.90"},"56"]
["一志愿","085600","材料与化工",null,"周长山","102895210700609","277",{"$f":"VLOOKUP(E60,[1]sheet1!$C$10:$L$81,10,FALSE)","v":92},35,80,null,207,{"v":256,"d":"256.00"},"57"]
["一志愿","085600","材料与化工",null,"何佳乐","102895210701961","261",{"$f":"VLOOKUP(E61,[1]sheet1!$C$10:$L$81,10,FALSE)","v":126},35,83,null,244,{"v":255.9,"d":"255.90"},"58"]
["一志愿","085600","材料与化工",null,"李论","102895210704674",268,{"$f":"VLOOKUP(E62,[1]sheet1!$C$10:$L$81,10,FALSE)","v":102},38,85,null,225,{"v":255.1,"d":"255.10"},"59"]
["一志愿","085600","材料与化工",null,"万明月","102895210700589","274",{"$f":"VLOOKUP(E63,[1]sheet1!$C$10:$L$81,10,FALSE)","v":103},37,70,null,210,{"v":254.8,"d":"254.80"},"60"]
["一志愿","085600","材料与化工",null,"张佳贺","102895210704496","263",{"$f":"VLOOKUP(E64,[1]sheet1!$C$10:$L$81,10,FALSE)","v":106},45,83,null,234,{"v":254.3,"d":"254.30"},"61"]
["一志愿","085600","材料与化工",null,"丁庆伟"," 102895210700558",273,{"$f":"VLOOKUP(E65,[1]sheet1!$C$10:$L$81,10,FALSE)","v":90},40,80,null,210,{"v":254.1,"d":"254.10"},"62"]
["一志愿","085600","材料与化工",null,"边世通","102895210702238","262",{"$f":"VLOOKUP(E66,[1]sheet1!$C$10:$L$81,10,FALSE)","v":113},38,84,null,235,{"v":253.9,"d":"253.90"},"63"]
["一志愿","085600","材料与化工",null,"狄桢舜","102895210705237","267",{"$f":"VLOOKUP(E67,[1]sheet1!$C$10:$L$81,10,FALSE)","v":90},45,88,null,223,{"v":253.8,"d":"253.80"},"64"]
["一志愿","085600","材料与化工",null,"杨亚丽","102895210705231","263",{"$f":"VLOOKUP(E68,[1]sheet1!$C$10:$L$81,10,FALSE)","v":105},38,88,null,{"$f":"H68+I68+J68","v":231},{"$f":"G68*0.7+L68*0.3","v":{"v":253.4,"d":"253.40"}},"65"]
["一志愿","085600","材料与化工",null,"赵英尚","102895210700792","269",{"$f":"VLOOKUP(E69,[1]sheet1!$C$10:$L$81,10,FALSE)","v":93},38,84,null,215,{"v":252.8,"d":"252.80"},"66"]
["一志愿","085600","材料与化工",null,"舒镕"," 102895210705183",266,{"$f":"VLOOKUP(E70,[1]sheet1!$C$10:$L$81,10,FALSE)","v":96},40,85,null,221,{"v":252.5,"d":"252.50"},"67"]
["一志愿","085600","材料与化工",null,"韩书格","102895210704660","264",{"$f":"VLOOKUP(E71,[1]sheet1!$C$10:$L$81,10,FALSE)","v":107},40,70,null,217,{"v":249.9,"d":"249.90"},"68"]
["一志愿","085600","材料与化工",null,"曾先贵"," 102895210701988",268,{"$f":"VLOOKUP(E72,[1]sheet1!$C$10:$L$81,10,FALSE)","v":91},35,80,null,206,{"v":249.4,"d":"249.40"},"69"]
["一志愿","085600","材料与化工",null,"卞瑞","102895210700552","271",{"$f":"VLOOKUP(E73,[1]sheet1!$C$10:$L$81,10,FALSE)","v":91},32,72,null,195,{"v":248.2,"d":"248.20"},"70"]
["一志愿","085600","材料与化工",null,"文小辉","102895210700595","261",{"$f":"VLOOKUP(E74,[1]sheet1!$C$10:$L$81,10,FALSE)","v":101},45,70,null,216,{"v":247.5,"d":"247.50"},"71"]
["一志愿","085600","材料与化工",null,"孙齐"," 102895210700777",244,110,40,95,null,245,{"v":244.3,"d":"244.30"},"72"]
[]
[{"$nulls":12},"2025-03-28"]